BEGIN:VCALENDAR
VERSION:2.0
PRODID:http://www.pfarrei-fidei.de
BEGIN:VEVENT
UID:64a6fdad-3dbb-11f1-a3e9-0242ac11002b-1780560000000-de
DTSTAMP:20260421T195048Z
DTSTART:20260604T080000Z
DTEND:20260604T100000Z
SUMMARY;LANGUAGE=de:Feier von Fronleichnam für die gesamte Pfarrei
DESCRIPTION;LANGUAGE=de:Am Donnerstag\, 4. Juni\, feiern wir Fronleichnam in diesem Jahr zentral für unsere Pfarrei in Orenhofen. Das Hochamt feiern wir um 10 Uhr\, daran schließt sich die Prozession an.\nWir sind seit 2023 eine Pfarrei. Deshalb laden wir ein\, uns an diesem Festtag gemeinsam und miteinander auf den Weg zu machen. In dem einen Christus\, der mit uns geht\, sind wir alle eins\, sind wir sein Leib. Wir merken\, dass Vieles nur (noch) gemeinsam geht. Entweder gemein-sam oder gar nicht mehr – das ist die Alternative in unserer Situation heute. Herzliche Einladung an alle!
LOCATION;LANGUAGE=de:St. Rochus Orenhofen\, Auf der Katz 2\, 54298 Orenhofen
END:VEVENT
END:VCALENDAR
